BEGIN:VCALENDAR
VERSION:2.0
PRODID:-//CMF - ECPv6.14.2//NONSGML v1.0//EN
CALSCALE:GREGORIAN
METHOD:PUBLISH
X-ORIGINAL-URL:https://cmfny.org
X-WR-CALDESC:Events for CMF
REFRESH-INTERVAL;VALUE=DURATION:PT1H
X-Robots-Tag:noindex
X-PUBLISHED-TTL:PT1H
BEGIN:VTIMEZONE
TZID:UTC
BEGIN:STANDARD
TZOFFSETFROM:+0000
TZOFFSETTO:+0000
TZNAME:UTC
DTSTART:20260101T000000
END:STANDARD
END:VTIMEZONE
BEGIN:VEVENT
DTSTART;TZID=UTC:20260304T180000
DTEND;TZID=UTC:20260304T193000
DTSTAMP:20260424T211711
CREATED:20260205T213015Z
LAST-MODIFIED:20260327T184909Z
UID:10013-1772647200-1772652600@cmfny.org
SUMMARY:CMF  Bingo Night
DESCRIPTION:When is it?\n			\n							June 15\, 2026 AT 09:00 AM\n			\n					\n\n					\n				\n				\n				\n							\n							Where is it?\n			\n			\n								Glen Oaks Club\, Old Westbury\, NY  \n						\n\n					\n				\n				\n				\n									\n					\n						\n									Learn More
URL:https://cmfny.org/event/cmf-bingo-night-2/
CATEGORIES:Children,GCC
END:VEVENT
END:VCALENDAR