BEGIN:VCALENDAR
VERSION:2.0
PRODID:-//CMF - ECPv6.14.2//NONSGML v1.0//EN
CALSCALE:GREGORIAN
METHOD:PUBLISH
X-ORIGINAL-URL:https://cmfny.org
X-WR-CALDESC:Events for CMF
REFRESH-INTERVAL;VALUE=DURATION:PT1H
X-Robots-Tag:noindex
X-PUBLISHED-TTL:PT1H
BEGIN:VTIMEZONE
TZID:UTC
BEGIN:STANDARD
TZOFFSETFROM:+0000
TZOFFSETTO:+0000
TZNAME:UTC
DTSTART:20240101T000000
END:STANDARD
END:VTIMEZONE
BEGIN:VEVENT
DTSTART;TZID=UTC:20260414T113000
DTEND;TZID=UTC:20260414T143000
DTSTAMP:20260424T153936
CREATED:20260209T172346Z
LAST-MODIFIED:20260326T065546Z
UID:10022-1776166200-1776177000@cmfny.org
SUMMARY:WOMEN'S LUNCHEON
DESCRIPTION:When is it?\n			\n							June 15\, 2026 AT 09:00 AM\n			\n					\n\n					\n				\n				\n				\n							\n							Where is it?\n			\n			\n								Glen Oaks Club\, Old Westbury\, NY  \n						\n\n					\n				\n				\n				\n									\n					\n						\n									Learn More
URL:https://cmfny.org/event/womens-luncheon/
CATEGORIES:Children
END:VEVENT
BEGIN:VEVENT
DTSTART;TZID=UTC:20260304T180000
DTEND;TZID=UTC:20260304T193000
DTSTAMP:20260424T153936
CREATED:20260205T213015Z
LAST-MODIFIED:20260327T184909Z
UID:10013-1772647200-1772652600@cmfny.org
SUMMARY:CMF  Bingo Night
DESCRIPTION:When is it?\n			\n							June 15\, 2026 AT 09:00 AM\n			\n					\n\n					\n				\n				\n				\n							\n							Where is it?\n			\n			\n								Glen Oaks Club\, Old Westbury\, NY  \n						\n\n					\n				\n				\n				\n									\n					\n						\n									Learn More
URL:https://cmfny.org/event/cmf-bingo-night-2/
CATEGORIES:Children,GCC
END:VEVENT
BEGIN:VEVENT
DTSTART;TZID=UTC:20250424T173000
DTEND;TZID=UTC:20250424T190000
DTSTAMP:20260424T153936
CREATED:20250227T111312Z
LAST-MODIFIED:20260327T185112Z
UID:8560-1745515800-1745521200@cmfny.org
SUMMARY:CMF  Bingo Night
DESCRIPTION:When is it?\n			\n							June 15\, 2026 AT 09:00 AM\n			\n					\n\n					\n				\n				\n				\n							\n							Where is it?\n			\n			\n								Glen Oaks Club\, Old Westbury\, NY  \n						\n\n					\n				\n				\n				\n									\n					\n						\n									Learn More
URL:https://cmfny.org/event/cmf-bingo-night/
CATEGORIES:Children,GCC
END:VEVENT
BEGIN:VEVENT
DTSTART;TZID=UTC:20241231T090000
DTEND;TZID=UTC:20241231T120000
DTSTAMP:20260424T153936
CREATED:20231128T063322Z
LAST-MODIFIED:20250227T110911Z
UID:3308-1735635600-1735646400@cmfny.org
SUMMARY:Start a campaign to reach your creative peaks
DESCRIPTION:When is it?\n			\n							June 15\, 2026 AT 09:00 AM\n			\n					\n\n					\n				\n				\n				\n							\n							Where is it?\n			\n			\n								Glen Oaks Club\, Old Westbury\, NY  \n						\n\n					\n				\n				\n				\n									\n					\n						\n									Learn More
URL:https://cmfny.org/event/start-a-campaign-to-reach-your-creative-peaks/
LOCATION:Eastern Hall\, New York
CATEGORIES:Children,Education,Help
ATTACH;FMTTYPE=:
ORGANIZER;CN="Jenny Wilson":MAILTO:donik@gmail.com
END:VEVENT
BEGIN:VEVENT
DTSTART;TZID=UTC:20241231T090000
DTEND;TZID=UTC:20241231T120000
DTSTAMP:20260424T153936
CREATED:20231128T062209Z
LAST-MODIFIED:20250227T111103Z
UID:3292-1735635600-1735646400@cmfny.org
SUMMARY:How to build a loyal community offlines
DESCRIPTION:When is it?\n			\n							June 15\, 2026 AT 09:00 AM\n			\n					\n\n					\n				\n				\n				\n							\n							Where is it?\n			\n			\n								Glen Oaks Club\, Old Westbury\, NY  \n						\n\n					\n				\n				\n				\n									\n					\n						\n									Learn More
URL:https://cmfny.org/event/how-to-build-a-loyal-community-offlines/
LOCATION:Eastern Hall\, New York
CATEGORIES:Children,Education,Help
ATTACH;FMTTYPE=:
ORGANIZER;CN="Jenny Wilson":MAILTO:donik@gmail.com
END:VEVENT
BEGIN:VEVENT
DTSTART;TZID=UTC:20241231T090000
DTEND;TZID=UTC:20241231T120000
DTSTAMP:20260424T153936
CREATED:20231121T102649Z
LAST-MODIFIED:20231121T102649Z
UID:2527-1735635600-1735646400@cmfny.org
SUMMARY:Charity caring is the new generation guide
DESCRIPTION:When is it?\n			\n							June 15\, 2026 AT 09:00 AM\n			\n					\n\n					\n				\n				\n				\n							\n							Where is it?\n			\n			\n								Glen Oaks Club\, Old Westbury\, NY  \n						\n\n					\n				\n				\n				\n									\n					\n						\n									Learn More
URL:https://cmfny.org/event/charity-caring-is-the-new-generation-guide/
LOCATION:Eastern Hall\, New York
CATEGORIES:Children,Education,Organization
ATTACH;FMTTYPE=:
ORGANIZER;CN="Jenny Wilson":MAILTO:donik@gmail.com
END:VEVENT
END:VCALENDAR