BEGIN:VCALENDAR
VERSION:2.0
PRODID:-//CMF - ECPv6.14.2//NONSGML v1.0//EN
CALSCALE:GREGORIAN
METHOD:PUBLISH
X-WR-CALNAME:CMF
X-ORIGINAL-URL:https://cmfny.org
X-WR-CALDESC:Events for CMF
REFRESH-INTERVAL;VALUE=DURATION:PT1H
X-Robots-Tag:noindex
X-PUBLISHED-TTL:PT1H
BEGIN:VTIMEZONE
TZID:UTC
BEGIN:STANDARD
TZOFFSETFROM:+0000
TZOFFSETTO:+0000
TZNAME:UTC
DTSTART:20260101T000000
END:STANDARD
END:VTIMEZONE
BEGIN:VEVENT
DTSTART;TZID=UTC:20260615T090000
DTEND;TZID=UTC:20260615T180000
DTSTAMP:20260424T135453
CREATED:20260421T113437Z
LAST-MODIFIED:20260421T123019Z
UID:10139-1781514000-1781546400@cmfny.org
SUMMARY:GOLF & TENNIS CLASSIC
DESCRIPTION:When is it?\n			\n							June 15\, 2026 AT 09:00 AM\n			\n					\n\n					\n				\n				\n				\n							\n							Where is it?\n			\n			\n								Glen Oaks Club\, Old Westbury\, NY  \n						\n\n					\n				\n				\n				\n									\n					\n						\n									Learn More
URL:https://cmfny.org/event/golf-tennis-classic/
CATEGORIES:Children
END:VEVENT
END:VCALENDAR